BEGIN:VCALENDAR
VERSION:2.0
PRODID:-//Mount Shamballa - ECPv6.15.18//NONSGML v1.0//EN
CALSCALE:GREGORIAN
METHOD:PUBLISH
X-ORIGINAL-URL:https://www.mountshamballa.org
X-WR-CALDESC:Events for Mount Shamballa
REFRESH-INTERVAL;VALUE=DURATION:PT1H
X-Robots-Tag:noindex
X-PUBLISHED-TTL:PT1H
BEGIN:VTIMEZONE
TZID:UTC
BEGIN:STANDARD
TZOFFSETFROM:+0000
TZOFFSETTO:+0000
TZNAME:UTC
DTSTART:20230101T000000
END:STANDARD
END:VTIMEZONE
BEGIN:VEVENT
DTSTART;VALUE=DATE:20240417
DTEND;VALUE=DATE:20240418
DTSTAMP:20260423T235406
CREATED:20240417T063149Z
LAST-MODIFIED:20240417T074433Z
UID:5250-1713312000-1713398399@www.mountshamballa.org
SUMMARY:Sri Sitarama Kalyana Mahotsavam
DESCRIPTION:Jyeshtha Pournami SadhanaOn Friday\, 21 June\, 2024Time: 5:30 pm Onwards 								\n				\n				\n				\n																														\n				\n				\n				\n									* Special Chakra Meditation* Giri Pradakshina Sadhana* Special Chandra Gayatri Yagya* Shiva Tandava Stotra Sadhana* Refreshments & Prasadam* Gou-Ksheera Sadhana* Antaryaga SadhanaMount Shamballa The Global Power Centre All are invited
URL:https://www.mountshamballa.org/event/sri-sitarama-kalyana-mahotsavam/
LOCATION:Mount Shamballa The Global Power Centre\, Shamballa Hills\, Deshmuki Road\, Barasingaram\, Near Ramoji Film City\,\, Hyderabad\, Telangana\, 502501\, India
CATEGORIES:Events
ORGANIZER;CN="Mount Shamballa":MAILTO:shamballa.mount@gmail.com
END:VEVENT
BEGIN:VEVENT
DTSTART;TZID=UTC:20240409T080000
DTEND;TZID=UTC:20240418T170000
DTSTAMP:20260423T235406
CREATED:20240408T135227Z
LAST-MODIFIED:20240408T140235Z
UID:5235-1712649600-1713459600@www.mountshamballa.org
SUMMARY:Vasantha Sri Rama Navratri Sadhana
DESCRIPTION:Jyeshtha Pournami SadhanaOn Friday\, 21 June\, 2024Time: 5:30 pm Onwards 								\n				\n				\n				\n																														\n				\n				\n				\n									* Special Chakra Meditation* Giri Pradakshina Sadhana* Special Chandra Gayatri Yagya* Shiva Tandava Stotra Sadhana* Refreshments & Prasadam* Gou-Ksheera Sadhana* Antaryaga SadhanaMount Shamballa The Global Power Centre All are invited
URL:https://www.mountshamballa.org/event/vasantha-sri-rama-navratri-sadhana/
LOCATION:Mount Shamballa The Global Power Centre\, Shamballa Hills\, Deshmuki Road\, Barasingaram\, Near Ramoji Film City\,\, Hyderabad\, Telangana\, 502501\, India
CATEGORIES:Events
ORGANIZER;CN="Mount Shamballa":MAILTO:shamballa.mount@gmail.com
END:VEVENT
BEGIN:VEVENT
DTSTART;VALUE=DATE:20240409
DTEND;VALUE=DATE:20240410
DTSTAMP:20260423T235406
CREATED:20240408T134550Z
LAST-MODIFIED:20240408T135122Z
UID:5225-1712620800-1712707199@www.mountshamballa.org
SUMMARY:Ugadi Programs
DESCRIPTION:Jyeshtha Pournami SadhanaOn Friday\, 21 June\, 2024Time: 5:30 pm Onwards 								\n				\n				\n				\n																														\n				\n				\n				\n									* Special Chakra Meditation* Giri Pradakshina Sadhana* Special Chandra Gayatri Yagya* Shiva Tandava Stotra Sadhana* Refreshments & Prasadam* Gou-Ksheera Sadhana* Antaryaga SadhanaMount Shamballa The Global Power Centre All are invited
URL:https://www.mountshamballa.org/event/ugadi-programs/
LOCATION:Mount Shamballa The Global Power Centre\, Shamballa Hills\, Deshmuki Road\, Barasingaram\, Near Ramoji Film City\,\, Hyderabad\, Telangana\, 502501\, India
CATEGORIES:Events
ORGANIZER;CN="Mount Shamballa":MAILTO:shamballa.mount@gmail.com
END:VEVENT
END:VCALENDAR