BEGIN:VCALENDAR
VERSION:2.0
PRODID:-//Mount Shamballa - ECPv6.15.18//NONSGML v1.0//EN
CALSCALE:GREGORIAN
METHOD:PUBLISH
X-ORIGINAL-URL:https://www.mountshamballa.org
X-WR-CALDESC:Events for Mount Shamballa
REFRESH-INTERVAL;VALUE=DURATION:PT1H
X-Robots-Tag:noindex
X-PUBLISHED-TTL:PT1H
BEGIN:VTIMEZONE
TZID:UTC
BEGIN:STANDARD
TZOFFSETFROM:+0000
TZOFFSETTO:+0000
TZNAME:UTC
DTSTART:20230101T000000
END:STANDARD
END:VTIMEZONE
BEGIN:VEVENT
DTSTART;VALUE=DATE:20241001
DTEND;VALUE=DATE:20241012
DTSTAMP:20260423T220829
CREATED:20241001T122142Z
LAST-MODIFIED:20241001T123002Z
UID:5800-1727740800-1728691199@www.mountshamballa.org
SUMMARY:NAVRATRI SADHANA
DESCRIPTION:Pournami Sadhana				\n				\n				\n				\n					On Monday\, 13 Jan\, 2025				\n				\n				\n				\n									Time: 5:30 pm Onwards: ★ Special Chakra Meditation★ Giri Pradakshina Sadhana★ Special Chandra Gayatri Yagya★ Shiva Tandava Stotra Sadhana★ Refreshments & Prasadam★ Gou-Ksheera Sadhana★ Antaryaga Sadhana 								\n				\n				\n				\n					All are invited
URL:https://www.mountshamballa.org/event/navratri-sadhana/
LOCATION:Mount Shamballa The Global Power Centre\, Shamballa Hills\, Deshmuki Road\, Barasingaram\, Near Ramoji Film City\,\, Hyderabad\, Telangana\, 502501\, India
CATEGORIES:Events
ORGANIZER;CN="Mount Shamballa":MAILTO:shamballa.mount@gmail.com
END:VEVENT
BEGIN:VEVENT
DTSTART;VALUE=DATE:20240917
DTEND;VALUE=DATE:20240918
DTSTAMP:20260423T220829
CREATED:20240913T105158Z
LAST-MODIFIED:20240913T110035Z
UID:5705-1726531200-1726617599@www.mountshamballa.org
SUMMARY:Ananta Padmanabha Swamy Vratham
DESCRIPTION:Pournami Sadhana				\n				\n				\n				\n					On Monday\, 13 Jan\, 2025				\n				\n				\n				\n									Time: 5:30 pm Onwards: ★ Special Chakra Meditation★ Giri Pradakshina Sadhana★ Special Chandra Gayatri Yagya★ Shiva Tandava Stotra Sadhana★ Refreshments & Prasadam★ Gou-Ksheera Sadhana★ Antaryaga Sadhana 								\n				\n				\n				\n					All are invited
URL:https://www.mountshamballa.org/event/ananta-padmanabha-swamy-vratham/
LOCATION:Mount Shamballa The Global Power Centre\, Shamballa Hills\, Deshmuki Road\, Barasingaram\, Near Ramoji Film City\,\, Hyderabad\, Telangana\, 502501\, India
CATEGORIES:Events
ORGANIZER;CN="Mount Shamballa":MAILTO:shamballa.mount@gmail.com
END:VEVENT
BEGIN:VEVENT
DTSTART;TZID=UTC:20240823T080000
DTEND;TZID=UTC:20240828T170000
DTSTAMP:20260423T220829
CREATED:20240823T061232Z
LAST-MODIFIED:20240823T070648Z
UID:5602-1724400000-1724864400@www.mountshamballa.org
SUMMARY:Janmashtami
DESCRIPTION:Pournami Sadhana				\n				\n				\n				\n					On Monday\, 13 Jan\, 2025				\n				\n				\n				\n									Time: 5:30 pm Onwards: ★ Special Chakra Meditation★ Giri Pradakshina Sadhana★ Special Chandra Gayatri Yagya★ Shiva Tandava Stotra Sadhana★ Refreshments & Prasadam★ Gou-Ksheera Sadhana★ Antaryaga Sadhana 								\n				\n				\n				\n					All are invited
URL:https://www.mountshamballa.org/event/janmashtami/
LOCATION:Mount Shamballa The Global Power Centre\, Shamballa Hills\, Deshmuki Road\, Barasingaram\, Near Ramoji Film City\,\, Hyderabad\, Telangana\, 502501\, India
CATEGORIES:Events
ORGANIZER;CN="Mount Shamballa":MAILTO:shamballa.mount@gmail.com
END:VEVENT
BEGIN:VEVENT
DTSTART;TZID=UTC:20240715T060000
DTEND;TZID=UTC:20240719T070000
DTSTAMP:20260423T220829
CREATED:20240406T052304Z
LAST-MODIFIED:20240715T065601Z
UID:5211-1721023200-1721372400@www.mountshamballa.org
SUMMARY:Free Online Yoga Vidya
DESCRIPTION:Pournami Sadhana				\n				\n				\n				\n					On Monday\, 13 Jan\, 2025				\n				\n				\n				\n									Time: 5:30 pm Onwards: ★ Special Chakra Meditation★ Giri Pradakshina Sadhana★ Special Chandra Gayatri Yagya★ Shiva Tandava Stotra Sadhana★ Refreshments & Prasadam★ Gou-Ksheera Sadhana★ Antaryaga Sadhana 								\n				\n				\n				\n					All are invited
URL:https://www.mountshamballa.org/event/free-online-yoga-vidya/
LOCATION:Mount Shamballa The Global Power Centre\, Shamballa Hills\, Deshmuki Road\, Barasingaram\, Near Ramoji Film City\,\, Hyderabad\, Telangana\, 502501\, India
CATEGORIES:Events
ORGANIZER;CN="Mount Shamballa":MAILTO:shamballa.mount@gmail.com
END:VEVENT
BEGIN:VEVENT
DTSTART;TZID=UTC:20240629T180000
DTEND;TZID=UTC:20240630T180000
DTSTAMP:20260423T220829
CREATED:20240611T130541Z
LAST-MODIFIED:20240611T131011Z
UID:5454-1719684000-1719770400@www.mountshamballa.org
SUMMARY:SRI SRIRAMAKRISHNA
DESCRIPTION:Pournami Sadhana				\n				\n				\n				\n					On Monday\, 13 Jan\, 2025				\n				\n				\n				\n									Time: 5:30 pm Onwards: ★ Special Chakra Meditation★ Giri Pradakshina Sadhana★ Special Chandra Gayatri Yagya★ Shiva Tandava Stotra Sadhana★ Refreshments & Prasadam★ Gou-Ksheera Sadhana★ Antaryaga Sadhana 								\n				\n				\n				\n					All are invited
URL:https://www.mountshamballa.org/event/sri-sriramakrishna/
LOCATION:Mount Shamballa The Global Power Centre\, Shamballa Hills\, Deshmuki Road\, Barasingaram\, Near Ramoji Film City\,\, Hyderabad\, Telangana\, 502501\, India
CATEGORIES:Events
ORGANIZER;CN="Mount Shamballa":MAILTO:shamballa.mount@gmail.com
END:VEVENT
BEGIN:VEVENT
DTSTART;TZID=UTC:20240623T100000
DTEND;TZID=UTC:20240623T123000
DTSTAMP:20260423T220829
CREATED:20240622T144114Z
LAST-MODIFIED:20240622T145353Z
UID:5474-1719136800-1719145800@www.mountshamballa.org
SUMMARY:Celebrating 10th international Yoga day
DESCRIPTION:Pournami Sadhana				\n				\n				\n				\n					On Monday\, 13 Jan\, 2025				\n				\n				\n				\n									Time: 5:30 pm Onwards: ★ Special Chakra Meditation★ Giri Pradakshina Sadhana★ Special Chandra Gayatri Yagya★ Shiva Tandava Stotra Sadhana★ Refreshments & Prasadam★ Gou-Ksheera Sadhana★ Antaryaga Sadhana 								\n				\n				\n				\n					All are invited
URL:https://www.mountshamballa.org/event/celebrating-10th-international-yoga-day/
LOCATION:Mount Shamballa The Global Power Centre\, Shamballa Hills\, Deshmuki Road\, Barasingaram\, Near Ramoji Film City\,\, Hyderabad\, Telangana\, 502501\, India
CATEGORIES:Events
ORGANIZER;CN="Mount Shamballa":MAILTO:shamballa.mount@gmail.com
END:VEVENT
BEGIN:VEVENT
DTSTART;VALUE=DATE:20240621
DTEND;VALUE=DATE:20240622
DTSTAMP:20260423T220829
CREATED:20240621T054115Z
LAST-MODIFIED:20240621T054853Z
UID:5461-1718928000-1719014399@www.mountshamballa.org
SUMMARY:Jyeshtha Pournami Sadhana
DESCRIPTION:Pournami Sadhana				\n				\n				\n				\n					On Monday\, 13 Jan\, 2025				\n				\n				\n				\n									Time: 5:30 pm Onwards: ★ Special Chakra Meditation★ Giri Pradakshina Sadhana★ Special Chandra Gayatri Yagya★ Shiva Tandava Stotra Sadhana★ Refreshments & Prasadam★ Gou-Ksheera Sadhana★ Antaryaga Sadhana 								\n				\n				\n				\n					All are invited
URL:https://www.mountshamballa.org/event/jyeshtha-pournami-sadhana/
LOCATION:Mount Shamballa The Global Power Centre\, Shamballa Hills\, Deshmuki Road\, Barasingaram\, Near Ramoji Film City\,\, Hyderabad\, Telangana\, 502501\, India
CATEGORIES:Events
ORGANIZER;CN="Mount Shamballa":MAILTO:shamballa.mount@gmail.com
END:VEVENT
BEGIN:VEVENT
DTSTART;VALUE=DATE:20240608
DTEND;VALUE=DATE:20240618
DTSTAMP:20260423T220829
CREATED:20240611T124615Z
LAST-MODIFIED:20240611T130246Z
UID:5428-1717804800-1718668799@www.mountshamballa.org
SUMMARY:Gayatri Navratri Sadhana
DESCRIPTION:Pournami Sadhana				\n				\n				\n				\n					On Monday\, 13 Jan\, 2025				\n				\n				\n				\n									Time: 5:30 pm Onwards: ★ Special Chakra Meditation★ Giri Pradakshina Sadhana★ Special Chandra Gayatri Yagya★ Shiva Tandava Stotra Sadhana★ Refreshments & Prasadam★ Gou-Ksheera Sadhana★ Antaryaga Sadhana 								\n				\n				\n				\n					All are invited
URL:https://www.mountshamballa.org/event/gayatri-navratri-sadhana/
LOCATION:Mount Shamballa The Global Power Centre\, Shamballa Hills\, Deshmuki Road\, Barasingaram\, Near Ramoji Film City\,\, Hyderabad\, Telangana\, 502501\, India
CATEGORIES:Events
ORGANIZER;CN="Mount Shamballa":MAILTO:shamballa.mount@gmail.com
END:VEVENT
BEGIN:VEVENT
DTSTART;VALUE=DATE:20241230
DTEND;VALUE=DATE:20241231
DTSTAMP:20260423T220829
CREATED:20241228T074503Z
LAST-MODIFIED:20241228T074708Z
UID:5413-1735516800-1735603199@www.mountshamballa.org
SUMMARY:Amavasya Sadhanas
DESCRIPTION:Pournami Sadhana				\n				\n				\n				\n					On Monday\, 13 Jan\, 2025				\n				\n				\n				\n									Time: 5:30 pm Onwards: ★ Special Chakra Meditation★ Giri Pradakshina Sadhana★ Special Chandra Gayatri Yagya★ Shiva Tandava Stotra Sadhana★ Refreshments & Prasadam★ Gou-Ksheera Sadhana★ Antaryaga Sadhana 								\n				\n				\n				\n					All are invited
URL:https://www.mountshamballa.org/event/amavasya-sadhanas/
LOCATION:Mount Shamballa The Global Power Centre\, Shamballa Hills\, Deshmuki Road\, Barasingaram\, Near Ramoji Film City\,\, Hyderabad\, Telangana\, 502501\, India
CATEGORIES:Events
ORGANIZER;CN="Mount Shamballa":MAILTO:shamballa.mount@gmail.com
END:VEVENT
BEGIN:VEVENT
DTSTART;TZID=UTC:20240604T060000
DTEND;TZID=UTC:20240608T200000
DTSTAMP:20260423T220829
CREATED:20240507T071644Z
LAST-MODIFIED:20240605T073510Z
UID:5296-1717480800-1717876800@www.mountshamballa.org
SUMMARY:SRI MAHALAKSHMI SADHANA
DESCRIPTION:Pournami Sadhana				\n				\n				\n				\n					On Monday\, 13 Jan\, 2025				\n				\n				\n				\n									Time: 5:30 pm Onwards: ★ Special Chakra Meditation★ Giri Pradakshina Sadhana★ Special Chandra Gayatri Yagya★ Shiva Tandava Stotra Sadhana★ Refreshments & Prasadam★ Gou-Ksheera Sadhana★ Antaryaga Sadhana 								\n				\n				\n				\n					All are invited
URL:https://www.mountshamballa.org/event/sri-mahalakshmi-sadhana/
LOCATION:Mount Shamballa The Global Power Centre\, Shamballa Hills\, Deshmuki Road\, Barasingaram\, Near Ramoji Film City\,\, Hyderabad\, Telangana\, 502501\, India
CATEGORIES:Events
ORGANIZER;CN="Mount Shamballa":MAILTO:shamballa.mount@gmail.com
END:VEVENT
BEGIN:VEVENT
DTSTART;TZID=UTC:20240522T173000
DTEND;TZID=UTC:20240522T230000
DTSTAMP:20260423T220829
CREATED:20240520T053159Z
LAST-MODIFIED:20240520T054945Z
UID:5347-1716399000-1716418800@www.mountshamballa.org
SUMMARY:Vaishakh Full Moon Sadhanas
DESCRIPTION:Pournami Sadhana				\n				\n				\n				\n					On Monday\, 13 Jan\, 2025				\n				\n				\n				\n									Time: 5:30 pm Onwards: ★ Special Chakra Meditation★ Giri Pradakshina Sadhana★ Special Chandra Gayatri Yagya★ Shiva Tandava Stotra Sadhana★ Refreshments & Prasadam★ Gou-Ksheera Sadhana★ Antaryaga Sadhana 								\n				\n				\n				\n					All are invited
URL:https://www.mountshamballa.org/event/vaishakh-full-moon-sadhanas/
LOCATION:Mount Shamballa The Global Power Centre\, Shamballa Hills\, Deshmuki Road\, Barasingaram\, Near Ramoji Film City\,\, Hyderabad\, Telangana\, 502501\, India
CATEGORIES:Events
ORGANIZER;CN="Mount Shamballa":MAILTO:shamballa.mount@gmail.com
END:VEVENT
BEGIN:VEVENT
DTSTART;TZID=UTC:20240504T080000
DTEND;TZID=UTC:20240511T170000
DTSTAMP:20260423T220829
CREATED:20240406T051137Z
LAST-MODIFIED:20240502T104950Z
UID:5200-1714809600-1715446800@www.mountshamballa.org
SUMMARY:SHAMBALLA RESIDENTIAL SUMMER CAMP FOR CHILDREN
DESCRIPTION:Pournami Sadhana				\n				\n				\n				\n					On Monday\, 13 Jan\, 2025				\n				\n				\n				\n									Time: 5:30 pm Onwards: ★ Special Chakra Meditation★ Giri Pradakshina Sadhana★ Special Chandra Gayatri Yagya★ Shiva Tandava Stotra Sadhana★ Refreshments & Prasadam★ Gou-Ksheera Sadhana★ Antaryaga Sadhana 								\n				\n				\n				\n					All are invited
URL:https://www.mountshamballa.org/event/shamballa-residential-summer-camp-for-children-2/
LOCATION:Mount Shamballa The Global Power Centre\, Shamballa Hills\, Deshmuki Road\, Barasingaram\, Near Ramoji Film City\,\, Hyderabad\, Telangana\, 502501\, India
CATEGORIES:Events
ORGANIZER;CN="Mount Shamballa":MAILTO:shamballa.mount@gmail.com
END:VEVENT
BEGIN:VEVENT
DTSTART;VALUE=DATE:20240417
DTEND;VALUE=DATE:20240418
DTSTAMP:20260423T220829
CREATED:20240417T063149Z
LAST-MODIFIED:20240417T074433Z
UID:5250-1713312000-1713398399@www.mountshamballa.org
SUMMARY:Sri Sitarama Kalyana Mahotsavam
DESCRIPTION:Pournami Sadhana				\n				\n				\n				\n					On Monday\, 13 Jan\, 2025				\n				\n				\n				\n									Time: 5:30 pm Onwards: ★ Special Chakra Meditation★ Giri Pradakshina Sadhana★ Special Chandra Gayatri Yagya★ Shiva Tandava Stotra Sadhana★ Refreshments & Prasadam★ Gou-Ksheera Sadhana★ Antaryaga Sadhana 								\n				\n				\n				\n					All are invited
URL:https://www.mountshamballa.org/event/sri-sitarama-kalyana-mahotsavam/
LOCATION:Mount Shamballa The Global Power Centre\, Shamballa Hills\, Deshmuki Road\, Barasingaram\, Near Ramoji Film City\,\, Hyderabad\, Telangana\, 502501\, India
CATEGORIES:Events
ORGANIZER;CN="Mount Shamballa":MAILTO:shamballa.mount@gmail.com
END:VEVENT
BEGIN:VEVENT
DTSTART;TZID=UTC:20240409T080000
DTEND;TZID=UTC:20240418T170000
DTSTAMP:20260423T220829
CREATED:20240408T135227Z
LAST-MODIFIED:20240408T140235Z
UID:5235-1712649600-1713459600@www.mountshamballa.org
SUMMARY:Vasantha Sri Rama Navratri Sadhana
DESCRIPTION:Pournami Sadhana				\n				\n				\n				\n					On Monday\, 13 Jan\, 2025				\n				\n				\n				\n									Time: 5:30 pm Onwards: ★ Special Chakra Meditation★ Giri Pradakshina Sadhana★ Special Chandra Gayatri Yagya★ Shiva Tandava Stotra Sadhana★ Refreshments & Prasadam★ Gou-Ksheera Sadhana★ Antaryaga Sadhana 								\n				\n				\n				\n					All are invited
URL:https://www.mountshamballa.org/event/vasantha-sri-rama-navratri-sadhana/
LOCATION:Mount Shamballa The Global Power Centre\, Shamballa Hills\, Deshmuki Road\, Barasingaram\, Near Ramoji Film City\,\, Hyderabad\, Telangana\, 502501\, India
CATEGORIES:Events
ORGANIZER;CN="Mount Shamballa":MAILTO:shamballa.mount@gmail.com
END:VEVENT
BEGIN:VEVENT
DTSTART;VALUE=DATE:20240409
DTEND;VALUE=DATE:20240410
DTSTAMP:20260423T220829
CREATED:20240408T134550Z
LAST-MODIFIED:20240408T135122Z
UID:5225-1712620800-1712707199@www.mountshamballa.org
SUMMARY:Ugadi Programs
DESCRIPTION:Pournami Sadhana				\n				\n				\n				\n					On Monday\, 13 Jan\, 2025				\n				\n				\n				\n									Time: 5:30 pm Onwards: ★ Special Chakra Meditation★ Giri Pradakshina Sadhana★ Special Chandra Gayatri Yagya★ Shiva Tandava Stotra Sadhana★ Refreshments & Prasadam★ Gou-Ksheera Sadhana★ Antaryaga Sadhana 								\n				\n				\n				\n					All are invited
URL:https://www.mountshamballa.org/event/ugadi-programs/
LOCATION:Mount Shamballa The Global Power Centre\, Shamballa Hills\, Deshmuki Road\, Barasingaram\, Near Ramoji Film City\,\, Hyderabad\, Telangana\, 502501\, India
CATEGORIES:Events
ORGANIZER;CN="Mount Shamballa":MAILTO:shamballa.mount@gmail.com
END:VEVENT
END:VCALENDAR