BEGIN:VCALENDAR
VERSION:2.0
PRODID:-//Mount Shamballa - ECPv6.15.18//NONSGML v1.0//EN
CALSCALE:GREGORIAN
METHOD:PUBLISH
X-ORIGINAL-URL:https://www.mountshamballa.org
X-WR-CALDESC:Events for Mount Shamballa
REFRESH-INTERVAL;VALUE=DURATION:PT1H
X-Robots-Tag:noindex
X-PUBLISHED-TTL:PT1H
BEGIN:VTIMEZONE
TZID:UTC
BEGIN:STANDARD
TZOFFSETFROM:+0000
TZOFFSETTO:+0000
TZNAME:UTC
DTSTART:20240101T000000
END:STANDARD
END:VTIMEZONE
BEGIN:VEVENT
DTSTART;TZID=UTC:20260327T100000
DTEND;TZID=UTC:20260327T170000
DTSTAMP:20260423T164238
CREATED:20260326T100852Z
LAST-MODIFIED:20260326T101808Z
UID:7501-1774605600-1774630800@www.mountshamballa.org
SUMMARY:Sri Rama Navami Mahotsav
DESCRIPTION:Sri Rama Navami Mahotsav				\n				\n				\n				\n					Sri Sitaramula Kalyana Mahotsav				\n				\n				\n				\n					27 March 2026\, Friday 10:00 am onwards				\n				\n				\n				\n									Programme Details:◆ Sri Sitaramula Kalyana Mahotsav◆ Samoohika SriRama Raksha Stotram Parayana◆ Ram Meditation◆ Vasantha Navaratrula Special Yagnam◆ Master gari harathi◆ Bhojana Prasad
URL:https://www.mountshamballa.org/event/sri-rama-navami-mahotsav/
LOCATION:Mount Shamballa The Global Power Centre\, Shamballa Hills\, Deshmuki Road\, Barasingaram\, Near Ramoji Film City\,\, Hyderabad\, Telangana\, 502501\, India
CATEGORIES:Events
ORGANIZER;CN="Mount Shamballa":MAILTO:shamballa.mount@gmail.com
END:VEVENT
BEGIN:VEVENT
DTSTART;TZID=UTC:20260303T173000
DTEND;TZID=UTC:20260303T210000
DTSTAMP:20260423T164238
CREATED:20260302T131734Z
LAST-MODIFIED:20260302T132656Z
UID:7488-1772559000-1772571600@www.mountshamballa.org
SUMMARY:Holi Pournami Sadhana
DESCRIPTION:Sri Rama Navami Mahotsav				\n				\n				\n				\n					Sri Sitaramula Kalyana Mahotsav				\n				\n				\n				\n					27 March 2026\, Friday 10:00 am onwards				\n				\n				\n				\n									Programme Details:◆ Sri Sitaramula Kalyana Mahotsav◆ Samoohika SriRama Raksha Stotram Parayana◆ Ram Meditation◆ Vasantha Navaratrula Special Yagnam◆ Master gari harathi◆ Bhojana Prasad
URL:https://www.mountshamballa.org/event/holi-pournami-sadhana/
LOCATION:Mount Shamballa The Global Power Centre\, Shamballa Hills\, Deshmuki Road\, Barasingaram\, Near Ramoji Film City\,\, Hyderabad\, Telangana\, 502501\, India
CATEGORIES:Events
ORGANIZER;CN="Mount Shamballa":MAILTO:shamballa.mount@gmail.com
END:VEVENT
BEGIN:VEVENT
DTSTART;VALUE=DATE:20260125
DTEND;VALUE=DATE:20260126
DTSTAMP:20260423T164238
CREATED:20260114T105112Z
LAST-MODIFIED:20260114T110335Z
UID:7479-1769299200-1769385599@www.mountshamballa.org
SUMMARY:The great sacrifice of the desire for a son
DESCRIPTION:Sri Rama Navami Mahotsav				\n				\n				\n				\n					Sri Sitaramula Kalyana Mahotsav				\n				\n				\n				\n					27 March 2026\, Friday 10:00 am onwards				\n				\n				\n				\n									Programme Details:◆ Sri Sitaramula Kalyana Mahotsav◆ Samoohika SriRama Raksha Stotram Parayana◆ Ram Meditation◆ Vasantha Navaratrula Special Yagnam◆ Master gari harathi◆ Bhojana Prasad
URL:https://www.mountshamballa.org/event/the-great-sacrifice-of-the-desire-for-a-son/
LOCATION:Telangana
CATEGORIES:Events
END:VEVENT
BEGIN:VEVENT
DTSTART;TZID=UTC:20260123T093000
DTEND;TZID=UTC:20260123T180000
DTSTAMP:20260423T164238
CREATED:20260114T104026Z
LAST-MODIFIED:20260114T110524Z
UID:7473-1769160600-1769191200@www.mountshamballa.org
SUMMARY:Vasantha Panchami Education Initiation Ceremony
DESCRIPTION:Sri Rama Navami Mahotsav				\n				\n				\n				\n					Sri Sitaramula Kalyana Mahotsav				\n				\n				\n				\n					27 March 2026\, Friday 10:00 am onwards				\n				\n				\n				\n									Programme Details:◆ Sri Sitaramula Kalyana Mahotsav◆ Samoohika SriRama Raksha Stotram Parayana◆ Ram Meditation◆ Vasantha Navaratrula Special Yagnam◆ Master gari harathi◆ Bhojana Prasad
URL:https://www.mountshamballa.org/event/vasantha-panchami-education-initiation-ceremony/
LOCATION:Mount Shamballa The Global Power Centre\, Shamballa Hills\, Deshmuki Road\, Barasingaram\, Near Ramoji Film City\,\, Hyderabad\, Telangana\, 502501\, India
CATEGORIES:Events
ORGANIZER;CN="Mount Shamballa":MAILTO:shamballa.mount@gmail.com
END:VEVENT
BEGIN:VEVENT
DTSTART;TZID=UTC:20260101T090000
DTEND;TZID=UTC:20260101T130000
DTSTAMP:20260423T164238
CREATED:20251231T075552Z
LAST-MODIFIED:20251231T081800Z
UID:7452-1767258000-1767272400@www.mountshamballa.org
SUMMARY:The practice of Sri Mahalakshmi
DESCRIPTION:Sri Rama Navami Mahotsav				\n				\n				\n				\n					Sri Sitaramula Kalyana Mahotsav				\n				\n				\n				\n					27 March 2026\, Friday 10:00 am onwards				\n				\n				\n				\n									Programme Details:◆ Sri Sitaramula Kalyana Mahotsav◆ Samoohika SriRama Raksha Stotram Parayana◆ Ram Meditation◆ Vasantha Navaratrula Special Yagnam◆ Master gari harathi◆ Bhojana Prasad
URL:https://www.mountshamballa.org/event/the-practice-of-sri-mahalakshmi/
LOCATION:Mount Shamballa The Global Power Centre\, Shamballa Hills\, Deshmuki Road\, Barasingaram\, Near Ramoji Film City\,\, Hyderabad\, Telangana\, 502501\, India
CATEGORIES:Events
ORGANIZER;CN="Mount Shamballa":MAILTO:shamballa.mount@gmail.com
END:VEVENT
BEGIN:VEVENT
DTSTART;TZID=UTC:20251217T180000
DTEND;TZID=UTC:20251221T220000
DTSTAMP:20260423T164238
CREATED:20251219T113604Z
LAST-MODIFIED:20251219T114436Z
UID:7433-1765994400-1766354400@www.mountshamballa.org
SUMMARY:Amavasya Sadhanas Shri Mahalakshmi Sadhanas
DESCRIPTION:Sri Rama Navami Mahotsav				\n				\n				\n				\n					Sri Sitaramula Kalyana Mahotsav				\n				\n				\n				\n					27 March 2026\, Friday 10:00 am onwards				\n				\n				\n				\n									Programme Details:◆ Sri Sitaramula Kalyana Mahotsav◆ Samoohika SriRama Raksha Stotram Parayana◆ Ram Meditation◆ Vasantha Navaratrula Special Yagnam◆ Master gari harathi◆ Bhojana Prasad
URL:https://www.mountshamballa.org/event/amavasya-sadhanas-shri-mahalakshmi-sadhanas-2/
LOCATION:Mount Shamballa The Global Power Centre\, Shamballa Hills\, Deshmuki Road\, Barasingaram\, Near Ramoji Film City\,\, Hyderabad\, Telangana\, 502501\, India
CATEGORIES:Events
ORGANIZER;CN="Mount Shamballa":MAILTO:shamballa.mount@gmail.com
END:VEVENT
BEGIN:VEVENT
DTSTART;VALUE=DATE:20251207
DTEND;VALUE=DATE:20251208
DTSTAMP:20260423T164238
CREATED:20251202T112132Z
LAST-MODIFIED:20251202T112638Z
UID:7413-1765065600-1765151999@www.mountshamballa.org
SUMMARY:Eleventh 108 Kundiya Sri Rajasuya Gayatri Maha Yajna Fourth Day
DESCRIPTION:Sri Rama Navami Mahotsav				\n				\n				\n				\n					Sri Sitaramula Kalyana Mahotsav				\n				\n				\n				\n					27 March 2026\, Friday 10:00 am onwards				\n				\n				\n				\n									Programme Details:◆ Sri Sitaramula Kalyana Mahotsav◆ Samoohika SriRama Raksha Stotram Parayana◆ Ram Meditation◆ Vasantha Navaratrula Special Yagnam◆ Master gari harathi◆ Bhojana Prasad
URL:https://www.mountshamballa.org/event/eleventh-108-kundiya-sri-rajasuya-gayatri-maha-yajna-fourth-day/
LOCATION:Telangana
CATEGORIES:Events
ORGANIZER;CN="Mount Shamballa":MAILTO:shamballa.mount@gmail.com
END:VEVENT
BEGIN:VEVENT
DTSTART;VALUE=DATE:20251206
DTEND;VALUE=DATE:20251207
DTSTAMP:20260423T164238
CREATED:20251202T111318Z
LAST-MODIFIED:20251202T111742Z
UID:7406-1764979200-1765065599@www.mountshamballa.org
SUMMARY:Eleventh 108 Kundiya Sri Rajasuya Gayatri Maha Yajna Third Day
DESCRIPTION:Sri Rama Navami Mahotsav				\n				\n				\n				\n					Sri Sitaramula Kalyana Mahotsav				\n				\n				\n				\n					27 March 2026\, Friday 10:00 am onwards				\n				\n				\n				\n									Programme Details:◆ Sri Sitaramula Kalyana Mahotsav◆ Samoohika SriRama Raksha Stotram Parayana◆ Ram Meditation◆ Vasantha Navaratrula Special Yagnam◆ Master gari harathi◆ Bhojana Prasad
URL:https://www.mountshamballa.org/event/eleventh-108-kundiya-sri-rajasuya-gayatri-maha-yajna-third-day/
LOCATION:Mount Shamballa The Global Power Centre\, Shamballa Hills\, Deshmuki Road\, Barasingaram\, Near Ramoji Film City\,\, Hyderabad\, Telangana\, 502501\, India
CATEGORIES:Events
ORGANIZER;CN="Mount Shamballa":MAILTO:shamballa.mount@gmail.com
END:VEVENT
BEGIN:VEVENT
DTSTART;TZID=UTC:20251205T073000
DTEND;TZID=UTC:20251207T173000
DTSTAMP:20260423T164238
CREATED:20251202T093632Z
LAST-MODIFIED:20251202T112751Z
UID:7369-1764919800-1765128600@www.mountshamballa.org
SUMMARY:Eleventh 108 Kundiya free bus facility for three days
DESCRIPTION:Sri Rama Navami Mahotsav				\n				\n				\n				\n					Sri Sitaramula Kalyana Mahotsav				\n				\n				\n				\n					27 March 2026\, Friday 10:00 am onwards				\n				\n				\n				\n									Programme Details:◆ Sri Sitaramula Kalyana Mahotsav◆ Samoohika SriRama Raksha Stotram Parayana◆ Ram Meditation◆ Vasantha Navaratrula Special Yagnam◆ Master gari harathi◆ Bhojana Prasad
URL:https://www.mountshamballa.org/event/eleventh-108-kundiya-free-bus-facility-for-three-days/
LOCATION:Mount Shamballa The Global Power Centre\, Shamballa Hills\, Deshmuki Road\, Barasingaram\, Near Ramoji Film City\,\, Hyderabad\, Telangana\, 502501\, India
CATEGORIES:Events
ORGANIZER;CN="Mount Shamballa":MAILTO:shamballa.mount@gmail.com
END:VEVENT
BEGIN:VEVENT
DTSTART;VALUE=DATE:20251205
DTEND;VALUE=DATE:20251206
DTSTAMP:20260423T164238
CREATED:20251202T110629Z
LAST-MODIFIED:20251202T111144Z
UID:7400-1764892800-1764979199@www.mountshamballa.org
SUMMARY:Eleventh 108 Kundiya Sri Rajasuya Gayatri Maha Yajna Second Day
DESCRIPTION:Sri Rama Navami Mahotsav				\n				\n				\n				\n					Sri Sitaramula Kalyana Mahotsav				\n				\n				\n				\n					27 March 2026\, Friday 10:00 am onwards				\n				\n				\n				\n									Programme Details:◆ Sri Sitaramula Kalyana Mahotsav◆ Samoohika SriRama Raksha Stotram Parayana◆ Ram Meditation◆ Vasantha Navaratrula Special Yagnam◆ Master gari harathi◆ Bhojana Prasad
URL:https://www.mountshamballa.org/event/eleventh-108-kundiya-sri-rajasuya-gayatri-maha-yajna-second-day/
LOCATION:Mount Shamballa The Global Power Centre\, Shamballa Hills\, Deshmuki Road\, Barasingaram\, Near Ramoji Film City\,\, Hyderabad\, Telangana\, 502501\, India
CATEGORIES:Events
ORGANIZER;CN="Mount Shamballa":MAILTO:shamballa.mount@gmail.com
END:VEVENT
BEGIN:VEVENT
DTSTART;VALUE=DATE:20251204
DTEND;VALUE=DATE:20251205
DTSTAMP:20260423T164238
CREATED:20251202T104851Z
LAST-MODIFIED:20251202T110352Z
UID:7395-1764806400-1764892799@www.mountshamballa.org
SUMMARY:Eleventh 108 Kundiya Sri Rajasuya Gayatri Maha Yajna First Day
DESCRIPTION:Sri Rama Navami Mahotsav				\n				\n				\n				\n					Sri Sitaramula Kalyana Mahotsav				\n				\n				\n				\n					27 March 2026\, Friday 10:00 am onwards				\n				\n				\n				\n									Programme Details:◆ Sri Sitaramula Kalyana Mahotsav◆ Samoohika SriRama Raksha Stotram Parayana◆ Ram Meditation◆ Vasantha Navaratrula Special Yagnam◆ Master gari harathi◆ Bhojana Prasad
URL:https://www.mountshamballa.org/event/eleventh-108-kundiya-sri-rajasuya-gayatri-maha-yajna-first-day/
LOCATION:Mount Shamballa The Global Power Centre\, Shamballa Hills\, Deshmuki Road\, Barasingaram\, Near Ramoji Film City\,\, Hyderabad\, Telangana\, 502501\, India
CATEGORIES:Events
ORGANIZER;CN="Mount Shamballa":MAILTO:shamballa.mount@gmail.com
END:VEVENT
BEGIN:VEVENT
DTSTART;VALUE=DATE:20251204
DTEND;VALUE=DATE:20251205
DTSTAMP:20260423T164238
CREATED:20251202T100352Z
LAST-MODIFIED:20251202T112718Z
UID:7381-1764806400-1764892799@www.mountshamballa.org
SUMMARY:Generous Donations Are Invited For 11th Sri Rajasuya Gayatri Mahayagyam
DESCRIPTION:Sri Rama Navami Mahotsav				\n				\n				\n				\n					Sri Sitaramula Kalyana Mahotsav				\n				\n				\n				\n					27 March 2026\, Friday 10:00 am onwards				\n				\n				\n				\n									Programme Details:◆ Sri Sitaramula Kalyana Mahotsav◆ Samoohika SriRama Raksha Stotram Parayana◆ Ram Meditation◆ Vasantha Navaratrula Special Yagnam◆ Master gari harathi◆ Bhojana Prasad
URL:https://www.mountshamballa.org/event/generous-donations-are-invited-for-11th-sri-rajasuya-gayatri-mahayagyam/
LOCATION:Telangana
CATEGORIES:Events
END:VEVENT
BEGIN:VEVENT
DTSTART;VALUE=DATE:20251204
DTEND;VALUE=DATE:20251208
DTSTAMP:20260423T164238
CREATED:20251103T125404Z
LAST-MODIFIED:20251115T060651Z
UID:6466-1764806400-1765151999@www.mountshamballa.org
SUMMARY:The eleventh 108 Kundiya Sri Rajasuya Gayatri Mahayagna.
DESCRIPTION:Sri Rama Navami Mahotsav				\n				\n				\n				\n					Sri Sitaramula Kalyana Mahotsav				\n				\n				\n				\n					27 March 2026\, Friday 10:00 am onwards				\n				\n				\n				\n									Programme Details:◆ Sri Sitaramula Kalyana Mahotsav◆ Samoohika SriRama Raksha Stotram Parayana◆ Ram Meditation◆ Vasantha Navaratrula Special Yagnam◆ Master gari harathi◆ Bhojana Prasad
URL:https://www.mountshamballa.org/event/the-eleventh-108-kundiya-sri-rajasuya-gayatri-mahayagna/
LOCATION:Mount Shamballa The Global Power Centre\, Shamballa Hills\, Deshmuki Road\, Barasingaram\, Near Ramoji Film City\,\, Hyderabad\, Telangana\, 502501\, India
CATEGORIES:Events
END:VEVENT
BEGIN:VEVENT
DTSTART;VALUE=DATE:20251117
DTEND;VALUE=DATE:20251122
DTSTAMP:20260423T164238
CREATED:20251118T090418Z
LAST-MODIFIED:20251219T112625Z
UID:7314-1763337600-1763769599@www.mountshamballa.org
SUMMARY:Amavasya Sadhanas Shri Mahalakshmi Sadhanas
DESCRIPTION:Sri Rama Navami Mahotsav				\n				\n				\n				\n					Sri Sitaramula Kalyana Mahotsav				\n				\n				\n				\n					27 March 2026\, Friday 10:00 am onwards				\n				\n				\n				\n									Programme Details:◆ Sri Sitaramula Kalyana Mahotsav◆ Samoohika SriRama Raksha Stotram Parayana◆ Ram Meditation◆ Vasantha Navaratrula Special Yagnam◆ Master gari harathi◆ Bhojana Prasad
URL:https://www.mountshamballa.org/event/amavasya-sadhanas-shri-mahalakshmi-sadhanas/
LOCATION:Mount Shamballa The Global Power Centre\, Shamballa Hills\, Deshmuki Road\, Barasingaram\, Near Ramoji Film City\,\, Hyderabad\, Telangana\, 502501\, India
CATEGORIES:Events
ORGANIZER;CN="Mount Shamballa":MAILTO:shamballa.mount@gmail.com
END:VEVENT
BEGIN:VEVENT
DTSTART;TZID=UTC:20251104T173000
DTEND;TZID=UTC:20251104T210000
DTSTAMP:20260423T164238
CREATED:20251031T121703Z
LAST-MODIFIED:20251031T123831Z
UID:6456-1762277400-1762290000@www.mountshamballa.org
SUMMARY:Laksha Deepotsavam and Purnima
DESCRIPTION:Sri Rama Navami Mahotsav				\n				\n				\n				\n					Sri Sitaramula Kalyana Mahotsav				\n				\n				\n				\n					27 March 2026\, Friday 10:00 am onwards				\n				\n				\n				\n									Programme Details:◆ Sri Sitaramula Kalyana Mahotsav◆ Samoohika SriRama Raksha Stotram Parayana◆ Ram Meditation◆ Vasantha Navaratrula Special Yagnam◆ Master gari harathi◆ Bhojana Prasad
URL:https://www.mountshamballa.org/event/laksha-deepotsavam-and-purnima/
LOCATION:Mount Shamballa The Global Power Centre\, Shamballa Hills\, Deshmuki Road\, Barasingaram\, Near Ramoji Film City\,\, Hyderabad\, Telangana\, 502501\, India
CATEGORIES:Events
END:VEVENT
BEGIN:VEVENT
DTSTART;TZID=UTC:20251014T103000
DTEND;TZID=UTC:20251014T170000
DTSTAMP:20260423T164238
CREATED:20251013T135210Z
LAST-MODIFIED:20251013T135725Z
UID:6389-1760437800-1760461200@www.mountshamballa.org
SUMMARY:Sri Sri Ramakrishna Samarth Sadguru Dev
DESCRIPTION:Sri Rama Navami Mahotsav				\n				\n				\n				\n					Sri Sitaramula Kalyana Mahotsav				\n				\n				\n				\n					27 March 2026\, Friday 10:00 am onwards				\n				\n				\n				\n									Programme Details:◆ Sri Sitaramula Kalyana Mahotsav◆ Samoohika SriRama Raksha Stotram Parayana◆ Ram Meditation◆ Vasantha Navaratrula Special Yagnam◆ Master gari harathi◆ Bhojana Prasad
URL:https://www.mountshamballa.org/event/sri-sri-ramakrishna-samarth-sadguru-dev/
LOCATION:Mount Shamballa The Global Power Centre\, Shamballa Hills\, Deshmuki Road\, Barasingaram\, Near Ramoji Film City\,\, Hyderabad\, Telangana\, 502501\, India
CATEGORIES:Events
ORGANIZER;CN="Mount Shamballa":MAILTO:shamballa.mount@gmail.com
END:VEVENT
BEGIN:VEVENT
DTSTART;TZID=UTC:20251006T173000
DTEND;TZID=UTC:20251006T220000
DTSTAMP:20260423T164238
CREATED:20251006T120000Z
LAST-MODIFIED:20251006T120213Z
UID:6371-1759771800-1759788000@www.mountshamballa.org
SUMMARY:Pournami Sadhana
DESCRIPTION:Sri Rama Navami Mahotsav				\n				\n				\n				\n					Sri Sitaramula Kalyana Mahotsav				\n				\n				\n				\n					27 March 2026\, Friday 10:00 am onwards				\n				\n				\n				\n									Programme Details:◆ Sri Sitaramula Kalyana Mahotsav◆ Samoohika SriRama Raksha Stotram Parayana◆ Ram Meditation◆ Vasantha Navaratrula Special Yagnam◆ Master gari harathi◆ Bhojana Prasad
URL:https://www.mountshamballa.org/event/pournami-sadhana-3/
LOCATION:Mount Shamballa The Global Power Centre\, Shamballa Hills\, Deshmuki Road\, Barasingaram\, Near Ramoji Film City\,\, Hyderabad\, Telangana\, 502501\, India
CATEGORIES:Events
ORGANIZER;CN="Mount Shamballa":MAILTO:shamballa.mount@gmail.com
END:VEVENT
BEGIN:VEVENT
DTSTART;VALUE=DATE:20250820
DTEND;VALUE=DATE:20250825
DTSTAMP:20260423T164238
CREATED:20250822T121825Z
LAST-MODIFIED:20250822T122410Z
UID:6283-1755648000-1756079999@www.mountshamballa.org
SUMMARY:Amavasya Sadhanas
DESCRIPTION:Sri Rama Navami Mahotsav				\n				\n				\n				\n					Sri Sitaramula Kalyana Mahotsav				\n				\n				\n				\n					27 March 2026\, Friday 10:00 am onwards				\n				\n				\n				\n									Programme Details:◆ Sri Sitaramula Kalyana Mahotsav◆ Samoohika SriRama Raksha Stotram Parayana◆ Ram Meditation◆ Vasantha Navaratrula Special Yagnam◆ Master gari harathi◆ Bhojana Prasad
URL:https://www.mountshamballa.org/event/amavasya-sadhanas-3/
LOCATION:Mount Shamballa The Global Power Centre\, Shamballa Hills\, Deshmuki Road\, Barasingaram\, Near Ramoji Film City\,\, Hyderabad\, Telangana\, 502501\, India
CATEGORIES:Events
ORGANIZER;CN="Mount Shamballa":MAILTO:shamballa.mount@gmail.com
END:VEVENT
BEGIN:VEVENT
DTSTART;TZID=UTC:20250808T173000
DTEND;TZID=UTC:20250808T203000
DTSTAMP:20260423T164238
CREATED:20250808T071624Z
LAST-MODIFIED:20250808T071818Z
UID:6271-1754674200-1754685000@www.mountshamballa.org
SUMMARY:Sravana Purnima Sadhana
DESCRIPTION:Sri Rama Navami Mahotsav				\n				\n				\n				\n					Sri Sitaramula Kalyana Mahotsav				\n				\n				\n				\n					27 March 2026\, Friday 10:00 am onwards				\n				\n				\n				\n									Programme Details:◆ Sri Sitaramula Kalyana Mahotsav◆ Samoohika SriRama Raksha Stotram Parayana◆ Ram Meditation◆ Vasantha Navaratrula Special Yagnam◆ Master gari harathi◆ Bhojana Prasad
URL:https://www.mountshamballa.org/event/sravana-purnima-sadhana/
LOCATION:Mount Shamballa The Global Power Centre\, Shamballa Hills\, Deshmuki Road\, Barasingaram\, Near Ramoji Film City\,\, Hyderabad\, Telangana\, 502501\, India
CATEGORIES:Events
ORGANIZER;CN="Mount Shamballa":MAILTO:shamballa.mount@gmail.com
END:VEVENT
BEGIN:VEVENT
DTSTART;VALUE=DATE:20250710
DTEND;VALUE=DATE:20250711
DTSTAMP:20260423T164238
CREATED:20250710T072520Z
LAST-MODIFIED:20250710T074210Z
UID:6259-1752105600-1752191999@www.mountshamballa.org
SUMMARY:Guru Poornami Mahotsavam
DESCRIPTION:Sri Rama Navami Mahotsav				\n				\n				\n				\n					Sri Sitaramula Kalyana Mahotsav				\n				\n				\n				\n					27 March 2026\, Friday 10:00 am onwards				\n				\n				\n				\n									Programme Details:◆ Sri Sitaramula Kalyana Mahotsav◆ Samoohika SriRama Raksha Stotram Parayana◆ Ram Meditation◆ Vasantha Navaratrula Special Yagnam◆ Master gari harathi◆ Bhojana Prasad
URL:https://www.mountshamballa.org/event/guru-poornami-mahotsavam-2/
LOCATION:Mount Shamballa The Global Power Centre\, Shamballa Hills\, Deshmuki Road\, Barasingaram\, Near Ramoji Film City\,\, Hyderabad\, Telangana\, 502501\, India
CATEGORIES:Events
ORGANIZER;CN="Mount Shamballa":MAILTO:shamballa.mount@gmail.com
END:VEVENT
BEGIN:VEVENT
DTSTART;TZID=UTC:20250629T180000
DTEND;TZID=UTC:20250630T060000
DTSTAMP:20260423T164238
CREATED:20250619T073413Z
LAST-MODIFIED:20250621T103957Z
UID:6204-1751220000-1751263200@www.mountshamballa.org
SUMMARY:Sri Sri RamaKrishna Samardha Sadguru Devula
DESCRIPTION:Sri Rama Navami Mahotsav				\n				\n				\n				\n					Sri Sitaramula Kalyana Mahotsav				\n				\n				\n				\n					27 March 2026\, Friday 10:00 am onwards				\n				\n				\n				\n									Programme Details:◆ Sri Sitaramula Kalyana Mahotsav◆ Samoohika SriRama Raksha Stotram Parayana◆ Ram Meditation◆ Vasantha Navaratrula Special Yagnam◆ Master gari harathi◆ Bhojana Prasad
URL:https://www.mountshamballa.org/event/sri-sri-ramakrishna-samardha-sadguru-devula/
LOCATION:Mount Shamballa The Global Power Centre\, Shamballa Hills\, Deshmuki Road\, Barasingaram\, Near Ramoji Film City\,\, Hyderabad\, Telangana\, 502501\, India
CATEGORIES:Events
ORGANIZER;CN="Mount Shamballa":MAILTO:shamballa.mount@gmail.com
END:VEVENT
BEGIN:VEVENT
DTSTART;TZID=UTC:20250610T173000
DTEND;TZID=UTC:20250610T220000
DTSTAMP:20260423T164238
CREATED:20250610T110151Z
LAST-MODIFIED:20250610T110550Z
UID:6198-1749576600-1749592800@www.mountshamballa.org
SUMMARY:Pournami Sadhana
DESCRIPTION:Sri Rama Navami Mahotsav				\n				\n				\n				\n					Sri Sitaramula Kalyana Mahotsav				\n				\n				\n				\n					27 March 2026\, Friday 10:00 am onwards				\n				\n				\n				\n									Programme Details:◆ Sri Sitaramula Kalyana Mahotsav◆ Samoohika SriRama Raksha Stotram Parayana◆ Ram Meditation◆ Vasantha Navaratrula Special Yagnam◆ Master gari harathi◆ Bhojana Prasad
URL:https://www.mountshamballa.org/event/pournami-sadhana-2/
LOCATION:Mount Shamballa The Global Power Centre\, Shamballa Hills\, Deshmuki Road\, Barasingaram\, Near Ramoji Film City\,\, Hyderabad\, Telangana\, 502501\, India
CATEGORIES:Events
ORGANIZER;CN="Mount Shamballa":MAILTO:shamballa.mount@gmail.com
END:VEVENT
BEGIN:VEVENT
DTSTART;VALUE=DATE:20250605
DTEND;VALUE=DATE:20250606
DTSTAMP:20260423T164238
CREATED:20250610T103049Z
LAST-MODIFIED:20250610T103740Z
UID:6185-1749081600-1749167999@www.mountshamballa.org
SUMMARY:Gayatri and Yajnam at home on Gayatri Jayanti
DESCRIPTION:Sri Rama Navami Mahotsav				\n				\n				\n				\n					Sri Sitaramula Kalyana Mahotsav				\n				\n				\n				\n					27 March 2026\, Friday 10:00 am onwards				\n				\n				\n				\n									Programme Details:◆ Sri Sitaramula Kalyana Mahotsav◆ Samoohika SriRama Raksha Stotram Parayana◆ Ram Meditation◆ Vasantha Navaratrula Special Yagnam◆ Master gari harathi◆ Bhojana Prasad
URL:https://www.mountshamballa.org/event/gayatri-and-yajnam-at-home-on-gayatri-jayanti/
LOCATION:Mount Shamballa The Global Power Centre\, Shamballa Hills\, Deshmuki Road\, Barasingaram\, Near Ramoji Film City\,\, Hyderabad\, Telangana\, 502501\, India
CATEGORIES:Events
ORGANIZER;CN="Mount Shamballa":MAILTO:shamballa.mount@gmail.com
END:VEVENT
BEGIN:VEVENT
DTSTART;TZID=UTC:20250511T173000
DTEND;TZID=UTC:20250511T220000
DTSTAMP:20260423T164238
CREATED:20250511T120447Z
LAST-MODIFIED:20250511T121535Z
UID:6172-1746984600-1747000800@www.mountshamballa.org
SUMMARY:Vaishakh Full Moon Sadhanas
DESCRIPTION:Sri Rama Navami Mahotsav				\n				\n				\n				\n					Sri Sitaramula Kalyana Mahotsav				\n				\n				\n				\n					27 March 2026\, Friday 10:00 am onwards				\n				\n				\n				\n									Programme Details:◆ Sri Sitaramula Kalyana Mahotsav◆ Samoohika SriRama Raksha Stotram Parayana◆ Ram Meditation◆ Vasantha Navaratrula Special Yagnam◆ Master gari harathi◆ Bhojana Prasad
URL:https://www.mountshamballa.org/event/vaishakh-full-moon-sadhanas-2/
LOCATION:Mount Shamballa The Global Power Centre\, Shamballa Hills\, Deshmuki Road\, Barasingaram\, Near Ramoji Film City\,\, Hyderabad\, Telangana\, 502501\, India
CATEGORIES:Events
ORGANIZER;CN="Mount Shamballa":MAILTO:shamballa.mount@gmail.com
END:VEVENT
BEGIN:VEVENT
DTSTART;TZID=UTC:20250425T180000
DTEND;TZID=UTC:20250529T220000
DTSTAMP:20260423T164238
CREATED:20240327T214758Z
LAST-MODIFIED:20250511T115639Z
UID:6022-1745604000-1748556000@www.mountshamballa.org
SUMMARY:Amavasya Sadhanas
DESCRIPTION:Sri Rama Navami Mahotsav				\n				\n				\n				\n					Sri Sitaramula Kalyana Mahotsav				\n				\n				\n				\n					27 March 2026\, Friday 10:00 am onwards				\n				\n				\n				\n									Programme Details:◆ Sri Sitaramula Kalyana Mahotsav◆ Samoohika SriRama Raksha Stotram Parayana◆ Ram Meditation◆ Vasantha Navaratrula Special Yagnam◆ Master gari harathi◆ Bhojana Prasad
URL:https://www.mountshamballa.org/event/amavasya-sadhanas-2/
LOCATION:Mount Shamballa The Global Power Centre\, Shamballa Hills\, Deshmuki Road\, Barasingaram\, Near Ramoji Film City\,\, Hyderabad\, Telangana\, 502501\, India
CATEGORIES:Events
ORGANIZER;CN="Mount Shamballa":MAILTO:shamballa.mount@gmail.com
END:VEVENT
BEGIN:VEVENT
DTSTART;VALUE=DATE:20250425
DTEND;VALUE=DATE:20250505
DTSTAMP:20260423T164238
CREATED:20250329T065938Z
LAST-MODIFIED:20250329T151722Z
UID:6076-1745539200-1746403199@www.mountshamballa.org
SUMMARY:SHAMBALLA RESIDENTIAL SUMMER CAMP FOR CHILDREN
DESCRIPTION:Sri Rama Navami Mahotsav				\n				\n				\n				\n					Sri Sitaramula Kalyana Mahotsav				\n				\n				\n				\n					27 March 2026\, Friday 10:00 am onwards				\n				\n				\n				\n									Programme Details:◆ Sri Sitaramula Kalyana Mahotsav◆ Samoohika SriRama Raksha Stotram Parayana◆ Ram Meditation◆ Vasantha Navaratrula Special Yagnam◆ Master gari harathi◆ Bhojana Prasad
URL:https://www.mountshamballa.org/event/shamballa-residential-summer-camp-for-children/
LOCATION:Mount Shamballa The Global Power Centre\, Shamballa Hills\, Deshmuki Road\, Barasingaram\, Near Ramoji Film City\,\, Hyderabad\, Telangana\, 502501\, India
CATEGORIES:Events
ORGANIZER;CN="Mount Shamballa":MAILTO:shamballa.mount@gmail.com
END:VEVENT
BEGIN:VEVENT
DTSTART;TZID=UTC:20250412T173000
DTEND;TZID=UTC:20250412T210000
DTSTAMP:20260423T164238
CREATED:20250411T062743Z
LAST-MODIFIED:20250411T063231Z
UID:6156-1744479000-1744491600@www.mountshamballa.org
SUMMARY:CHAITRA POURNAMI SADHANA
DESCRIPTION:Sri Rama Navami Mahotsav				\n				\n				\n				\n					Sri Sitaramula Kalyana Mahotsav				\n				\n				\n				\n					27 March 2026\, Friday 10:00 am onwards				\n				\n				\n				\n									Programme Details:◆ Sri Sitaramula Kalyana Mahotsav◆ Samoohika SriRama Raksha Stotram Parayana◆ Ram Meditation◆ Vasantha Navaratrula Special Yagnam◆ Master gari harathi◆ Bhojana Prasad
URL:https://www.mountshamballa.org/event/chaitra-pournami-sadhana/
LOCATION:Mount Shamballa The Global Power Centre\, Shamballa Hills\, Deshmuki Road\, Barasingaram\, Near Ramoji Film City\,\, Hyderabad\, Telangana\, 502501\, India
CATEGORIES:Events
ORGANIZER;CN="Mount Shamballa":MAILTO:shamballa.mount@gmail.com
END:VEVENT
BEGIN:VEVENT
DTSTART;VALUE=DATE:20250406
DTEND;VALUE=DATE:20250407
DTSTAMP:20260423T164238
CREATED:20250405T124008Z
LAST-MODIFIED:20250405T124611Z
UID:6147-1743897600-1743983999@www.mountshamballa.org
SUMMARY:Sri Sitaramula kalyanam
DESCRIPTION:Sri Rama Navami Mahotsav				\n				\n				\n				\n					Sri Sitaramula Kalyana Mahotsav				\n				\n				\n				\n					27 March 2026\, Friday 10:00 am onwards				\n				\n				\n				\n									Programme Details:◆ Sri Sitaramula Kalyana Mahotsav◆ Samoohika SriRama Raksha Stotram Parayana◆ Ram Meditation◆ Vasantha Navaratrula Special Yagnam◆ Master gari harathi◆ Bhojana Prasad
URL:https://www.mountshamballa.org/event/sri-sitaramula-kalyanam/
LOCATION:Mount Shamballa The Global Power Centre\, Shamballa Hills\, Deshmuki Road\, Barasingaram\, Near Ramoji Film City\,\, Hyderabad\, Telangana\, 502501\, India
CATEGORIES:Events
ORGANIZER;CN="Mount Shamballa":MAILTO:shamballa.mount@gmail.com
END:VEVENT
BEGIN:VEVENT
DTSTART;VALUE=DATE:20250330
DTEND;VALUE=DATE:20250407
DTSTAMP:20260423T164238
CREATED:20250329T152201Z
LAST-MODIFIED:20250329T154020Z
UID:6130-1743292800-1743983999@www.mountshamballa.org
SUMMARY:Practicing Vasant Sri Rama Navratri
DESCRIPTION:Sri Rama Navami Mahotsav				\n				\n				\n				\n					Sri Sitaramula Kalyana Mahotsav				\n				\n				\n				\n					27 March 2026\, Friday 10:00 am onwards				\n				\n				\n				\n									Programme Details:◆ Sri Sitaramula Kalyana Mahotsav◆ Samoohika SriRama Raksha Stotram Parayana◆ Ram Meditation◆ Vasantha Navaratrula Special Yagnam◆ Master gari harathi◆ Bhojana Prasad
URL:https://www.mountshamballa.org/event/practicing-vasant-sri-rama-navratri/
LOCATION:Mount Shamballa The Global Power Centre\, Shamballa Hills\, Deshmuki Road\, Barasingaram\, Near Ramoji Film City\,\, Hyderabad\, Telangana\, 502501\, India
CATEGORIES:Events
ORGANIZER;CN="Mount Shamballa":MAILTO:shamballa.mount@gmail.com
END:VEVENT
BEGIN:VEVENT
DTSTART;TZID=UTC:20250301T060000
DTEND;TZID=UTC:20250301T180000
DTSTAMP:20260423T164238
CREATED:20250228T132155Z
LAST-MODIFIED:20250228T132656Z
UID:6068-1740808800-1740852000@www.mountshamballa.org
SUMMARY:Akhanda Gayatri  Maha Mantra Japa Sadhana
DESCRIPTION:Sri Rama Navami Mahotsav				\n				\n				\n				\n					Sri Sitaramula Kalyana Mahotsav				\n				\n				\n				\n					27 March 2026\, Friday 10:00 am onwards				\n				\n				\n				\n									Programme Details:◆ Sri Sitaramula Kalyana Mahotsav◆ Samoohika SriRama Raksha Stotram Parayana◆ Ram Meditation◆ Vasantha Navaratrula Special Yagnam◆ Master gari harathi◆ Bhojana Prasad
URL:https://www.mountshamballa.org/event/akhanda-gayatri-maha-mantra-japa-sadhana/
LOCATION:Mount Shamballa The Global Power Centre\, Shamballa Hills\, Deshmuki Road\, Barasingaram\, Near Ramoji Film City\,\, Hyderabad\, Telangana\, 502501\, India
CATEGORIES:Events
ORGANIZER;CN="Mount Shamballa":MAILTO:shamballa.mount@gmail.com
END:VEVENT
END:VCALENDAR